BEGIN:VCALENDAR
VERSION:2.0
PRODID:-//wp-events-plugin.com//7.2.3.1//EN
TZID:Europe/London
X-WR-TIMEZONE:Europe/London
BEGIN:VEVENT
UID:54@courgettes.org.uk
DTSTART;TZID=Europe/London:20240102T113000
DTEND;TZID=Europe/London:20240102T123000
DTSTAMP:20230701T143624Z
URL:https://courgettes.org.uk/events/d-caf-christmas-party-2/
SUMMARY:D-Caf Christmas party
DESCRIPTION:
LOCATION:Reigate Manor hotel\, Reigate Hill\, Reigate\, RH2 9PF\, United Ki
 ngdom
X-APPLE-STRUCTURED-LOCATION;VALUE=URI;X-ADDRESS=Reigate Hill\, Reigate\, RH
 2 9PF\, United Kingdom;X-APPLE-RADIUS=100;X-TITLE=Reigate Manor hotel:geo:
 0,0
END:VEVENT
BEGIN:VTIMEZONE
TZID:Europe/London
X-LIC-LOCATION:Europe/London
BEGIN:STANDARD
DTSTART:20231029T010000
TZOFFSETFROM:+0100
TZOFFSETTO:+0000
TZNAME:GMT
END:STANDARD
END:VTIMEZONE
END:VCALENDAR